BEGIN:VCALENDAR
VERSION:2.0
PRODID:-//ChamberMaster//Event Calendar 2.0//EN
METHOD:PUBLISH
X-PUBLISHED-TTL:P3D
REFRESH-INTERVAL:P3D
CALSCALE:GREGORIAN
BEGIN:VEVENT
DTSTART:20220115T010000Z
DTEND:20220116T003000Z
X-MICROSOFT-CDO-ALLDAYEVENT:FALSE
SUMMARY:Predator Tournament - Pro Class
DESCRIPTION:Predator Tournament - Pro Class (Night Vision) \n\nStart Time 7:00 p.m. Jan 14th \n\n$80 entry for 2 man team with meal included at check in\n\nParticipants must check in by 6:30 p.m. January 15th!
X-ALT-DESC;FMTTYPE=text/html:Predator Tournament - Pro Class (Night Vision)&nbsp\;<br />\nStart Time 7:00 p.m. Jan 14th&nbsp\;<br />\n$80 entry for 2 man team with meal included at check in<br />\nParticipants must check in by 6:30 p.m. January 15th!&nbsp\;
LOCATION:2394 Union Road\, Paris\, AR 72855
UID:e.2208.2541
SEQUENCE:3
DTSTAMP:20260425T212232Z
URL:http://parisaronline.chambermaster.com/events/details/predator-tournament-pro-class-2541
END:VEVENT

END:VCALENDAR
